BEGIN:VCALENDAR
VERSION:2.0
PRODID:-//Danilo Pepato Franci - ECPv6.15.20//NONSGML v1.0//EN
CALSCALE:GREGORIAN
METHOD:PUBLISH
X-ORIGINAL-URL:https://www.danilopepatofranci-pittore.it
X-WR-CALDESC:Eventi per Danilo Pepato Franci
REFRESH-INTERVAL;VALUE=DURATION:PT1H
X-Robots-Tag:noindex
X-PUBLISHED-TTL:PT1H
BEGIN:VTIMEZONE
TZID:Europe/Rome
BEGIN:DAYLIGHT
TZOFFSETFROM:+0100
TZOFFSETTO:+0200
TZNAME:CEST
DTSTART:20220327T010000
END:DAYLIGHT
BEGIN:STANDARD
TZOFFSETFROM:+0200
TZOFFSETTO:+0100
TZNAME:CET
DTSTART:20221030T010000
END:STANDARD
BEGIN:DAYLIGHT
TZOFFSETFROM:+0100
TZOFFSETTO:+0200
TZNAME:CEST
DTSTART:20230326T010000
END:DAYLIGHT
BEGIN:STANDARD
TZOFFSETFROM:+0200
TZOFFSETTO:+0100
TZNAME:CET
DTSTART:20231029T010000
END:STANDARD
BEGIN:DAYLIGHT
TZOFFSETFROM:+0100
TZOFFSETTO:+0200
TZNAME:CEST
DTSTART:20240331T010000
END:DAYLIGHT
BEGIN:STANDARD
TZOFFSETFROM:+0200
TZOFFSETTO:+0100
TZNAME:CET
DTSTART:20241027T010000
END:STANDARD
END:VTIMEZONE
BEGIN:VEVENT
DTSTART;TZID=Europe/Rome:20230510T173000
DTEND;TZID=Europe/Rome:20230510T173000
DTSTAMP:20260424T183126
CREATED:20230328T135457Z
LAST-MODIFIED:20230329T061658Z
UID:7895-1683739800-1683739800@www.danilopepatofranci-pittore.it
SUMMARY:Conferenza della dott.ssa Paola Bassetti
DESCRIPTION:Dall’11 aprile al 3 maggio 2026\, al Lanserhaus di San Michele Appiano\, una mostra celebra e ricorda Danilo Pepato Franci\, artista profondamente legato al territorio. Le sue opere raccontano paesaggi\, luci e memorie che continuano a vivere nella comunità.
URL:https://www.danilopepatofranci-pittore.it/event/conferenza-della-dott-ssa-paola-bassetti/
LOCATION:Centro Trevi\, Via Cappuccini 28\, Bolzano\, 39100
CATEGORIES:Conferenza
ATTACH;FMTTYPE=image/jpeg:https://www.danilopepatofranci-pittore.it/wp-content/uploads/2022/08/15-Lago-di-Braies-Pragser-Wildsee-acquarello.jpg
END:VEVENT
END:VCALENDAR